BEGIN:VCALENDAR
VERSION:2.0
PRODID:-//ChamberMaster//Event Calendar 2.0//EN
METHOD:PUBLISH
X-PUBLISHED-TTL:P3D
REFRESH-INTERVAL:P3D
CALSCALE:GREGORIAN
BEGIN:VEVENT
DTSTART;VALUE=DATE:20250708
DTEND;VALUE=DATE:20250709
TRANSP:TRANSPARENT
X-MICROSOFT-CDO-ALLDAYEVENT:TRUE
SUMMARY:Webinar - Excel Power Query - Power Tool for Transforming Data
DESCRIPTION:Excel Power Query - Power Tool for Transforming Data\n\nJuly 8\, 10am\n\n \n\nOften the biggest hurdle to analyzing information is getting data organized the way you need it - columns need to be split\, tables combined\, or certain entries omitted. Doing it by hand may be impossible for all but the smallest data sets.\n\nPower Query is an oft-overlooked feature of Excel that can automate many such conversions\, for example separating city\, state\, and ZIP code in an address\, or\n\ntransposing rows and columns.
X-ALT-DESC;FMTTYPE=text/html:<span style="color:#464648\;"><span style="font-family:lato\,sans-serif\;"><a href="https://iedclvcab.cc.rs6.net/tn.jsp?f=001DH_h90tXE8mCs0933KfvWPFV-7jgSfF-cnePjAcPRxQ5hxRYwUA0CddWyFeF_Af0EJf09d8xd_dPxwxqyMjpDP6-LXvodK3F2HX0di79E8bkbCMxJel63rJpugxW-9nz-SjEwcFChQStpIkwTC2Vuyp3OfSJwBqAFnzeqOC77kdsx6a9ShoIBOGERx-IUgos1asWn99JA8xG43QuLcTfPFH6DZz7C5sdD1bK40fHbWY=&amp\;c=BIKq4VKO0l489BZaT9d576K70vDe15Fct5k3o8-Xazt2TwLLYYu2uA==&amp\;ch=U67cLUzGOFy3uNi3vA3s1RJiPuLj_ysQ_IcpXSGst6Uc79M5G4si3g==" target="_blank"><strong><span style="color:#284FA1\;">Excel Power Query - Power Tool for Transforming Data</span></strong></a></span></span><br />\n<strong><span style="color:#2A2F35\;"><span style="font-family:lato\,sans-serif\;">July 8\, 10am</span></span></strong><br />\n&nbsp\;<br />\n<span style="color:#464648\;"><span style="font-family:lato\,sans-serif\;"><span style="font-size:10.0pt\;">Often the biggest hurdle to analyzing information is getting data organized the way you need it - columns need to be split\, tables combined\, or certain entries omitted. Doing it by hand may be impossible for all but the smallest data sets.</span></span></span><br />\n<span style="color:#464648\;"><span style="font-family:lato\,sans-serif\;"><span style="font-size:10.0pt\;">Power Query is an oft-overlooked feature of Excel that can automate many such conversions\, for example separating city\, state\, and ZIP code in an address\, or</span></span></span><br />\n<span style="color:#464648\;"><span style="font-family:lato\,sans-serif\;"><span style="font-size:10.0pt\;">transposing rows and columns.</span></span></span>
LOCATION:
UID:e.518.49393
SEQUENCE:3
DTSTAMP:20260421T072924Z
URL:http://nashobavalleychamber.chambermaster.com/events/details/webinar-excel-power-query-power-tool-for-transforming-data-49393
END:VEVENT

END:VCALENDAR
