BEGIN:VCALENDAR
VERSION:2.0
PRODID:-//ChamberMaster//Event Calendar 2.0//EN
METHOD:PUBLISH
X-PUBLISHED-TTL:P3D
REFRESH-INTERVAL:P3D
CALSCALE:GREGORIAN
BEGIN:VEVENT
DTSTART;VALUE=DATE:20160419
DTEND;VALUE=DATE:20160420
TRANSP:TRANSPARENT
X-MICROSOFT-CDO-ALLDAYEVENT:TRUE
SUMMARY:* Query Writing Workshop (at MWCC - Devens)
DESCRIPTION:Query Writing Workshop \n\nTuesday: 4/19\; 6:30 - 9pm\, MWCC Devens Campus  \n\n\n\nCost $39  \n\n\n\nAre you a writer ready to start querying agents or editors\, but you're not sure where to begin? Kristine Carlson Asselin started querying agents in 2010. She's now happily signed with an agent\, and has recently signed with Simon and Schuster/Aladdin for her debut middle grade novel. Let her experience with querying help you get off on the right foot. \n\n\n\nLearn More or Register Now
X-ALT-DESC;FMTTYPE=text/html:<br />\n<strong><span style="color:#09A3BA\;"><span style="font-family:arial\,sans-serif\;"><span style="font-size:14.0pt\;">Query Writing Workshop&nbsp\;</span></span></span></strong><br />\n<span style="color:#403F42\;"><span style="font-family:arial\,sans-serif\;"><span style="font-size:10.0pt\;">Tuesday: 4/19\; 6:30 - 9pm\,&nbsp\;MWCC Devens Campus&nbsp\; </span></span></span><br />\n<br />\n<span style="color:#403F42\;"><span style="font-family:arial\,sans-serif\;"><span style="font-size:10.0pt\;"><strong>Cost $39&nbsp\;</strong></span> </span></span><br />\n<br />\n<span style="color:#403F42\;"><span style="font-family:arial\,sans-serif\;"><span style="font-size:10.0pt\;">Are you a writer ready to start querying agents or editors\, but you&#39\;re not sure where to begin? Kristine Carlson Asselin started querying agents in 2010. She&#39\;s now happily signed with an agent\, and has recently signed with Simon and Schuster/Aladdin for her debut middle grade novel. Let her experience with querying help you get off on the right foot. </span></span></span><br />\n<br />\n<span style="color:#403F42\;"><span style="font-family:arial\,sans-serif\;"><span style="font-size:10.0pt\;"><a href="http://r20.rs6.net/tn.jsp?f=001bIwta9CghC4E-B5MGip2ge0DP-oNDFJ4Db_OH-mgQspYx_E8uGxXvtxhHVbil75NHL5OD7le5cUVAGRtFH1khB43i01xzaEosILrApjqd3CVjbR0lixv8w7irYZnJNgNc4HtlK3Iyv97D0DXK3l9YzqvM31gLTbvpQ8WGZi2kcBKRLuSdUnKYU9WM_jmgshCZa4DifnGpo6Uno7O_o9iMHxCKBeUnEtifBwlVbQIRjg=&amp\;c=cY3fSnFxWgN0QK_IxDRM9AAdZkHpn1HED6Iu4woInK7xo5KGjdkcRQ==&amp\;ch=yx7f0QjgDVXrMRZxs0hvpvSrOQoBKQC6r3pMI1vVN6SMtO9BDAQbTA==" target="_blank"><span style="color:#09A3BA\;">Learn More or Register Now</span></a></span></span></span>
LOCATION:
UID:e.518.26136
SEQUENCE:3
DTSTAMP:20260422T044223Z
URL:http://nashobavalleychamber.chambermaster.com/events/details/query-writing-workshop-at-mwcc-devens-04-19-2016-26136
END:VEVENT

END:VCALENDAR
