BEGIN:VCALENDAR
VERSION:2.0
PRODID:-//ChamberMaster//Event Calendar 2.0//EN
METHOD:PUBLISH
X-PUBLISHED-TTL:P3D
REFRESH-INTERVAL:P3D
CALSCALE:GREGORIAN
BEGIN:VEVENT
DTSTART;VALUE=DATE:20251020
DTEND;VALUE=DATE:20251025
TRANSP:TRANSPARENT
X-MICROSOFT-CDO-ALLDAYEVENT:TRUE
SUMMARY:Notice: Fire Hydrant Flushing in Devens
DESCRIPTION:Notice: Fire Hydrant Flushing in Devens\n\n  Dates: October 20   October 24\, 2025\n\nFire hydrants in Devens will be flushed during this period to improve water quality and maintain system functionality.\n\nWhat to Expect:\n\n	Possible low water pressure\n	Discolored (brownish) water\, which is temporary and not harmful\n	Avoid laundry during discoloration to prevent staining\n	Run your faucet until water clears if discoloration occurs\n	Water may have an unpleasant taste   you may prefer not to drink it\n\n  Questions? Contact Mark Cohen at MassDevelopment: 978-784-2911
X-ALT-DESC;FMTTYPE=text/html:<strong><span style="position:relative\;top:-8.5pt\;"><span style="color:#4E5561\;"><span style="font-family:arial\,sans-serif\;">Notice: Fire Hydrant Flushing in Devens</span></span></span></strong><br />\n<span style="position:relative\;top:-8.5pt\;"><span style="color:#4E5561\;"><span style="font-family:segoe ui emoji\,sans-serif\;">&#128467\;</span></span></span><span style="position:relative\;top:-8.5pt\;"><span style="color:#4E5561\;"><span style="font-family:arial\,sans-serif\;">&nbsp\;<strong><span style="font-family:arial\,sans-serif\;">Dates:</span></strong> October 20 &ndash\; October 24\, 2025</span></span></span><br />\n<span style="position:relative\;top:-8.5pt\;"><span style="color:#4E5561\;"><span style="font-family:arial\,sans-serif\;">Fire hydrants in Devens will be flushed during this period to improve water quality and maintain system functionality.</span></span></span><br />\n<strong><span style="position:relative\;top:-8.5pt\;"><span style="color:#4E5561\;"><span style="font-family:arial\,sans-serif\;">What to Expect:</span></span></span></strong>\n<ul>\n	<li style="margin-top:0in\;margin-right:0in\;margin-bottom:15.0pt\;vertical-align:middle\;"><span style="position:relative\;top:-8.5pt\;"><span style="color:#4E5561\;"><span style="font-family:arial\,sans-serif\;">Possible <strong><span style="font-family:arial\,sans-serif\;">low water pressure</span></strong></span></span></span></li>\n	<li style="margin-top:0in\;margin-right:0in\;margin-bottom:15.0pt\;vertical-align:middle\;"><strong><span style="position:relative\;top:-8.5pt\;"><span style="color:#4E5561\;"><span style="font-family:arial\,sans-serif\;">Discolored (brownish) water</span></span></span></strong><span style="position:relative\;top:-8.5pt\;"><span style="color:#4E5561\;"><span style="font-family:arial\,sans-serif\;">\, which is temporary and <strong><span style="font-family:arial\,sans-serif\;">not harmful</span></strong></span></span></span></li>\n	<li style="margin-top:0in\;margin-right:0in\;margin-bottom:15.0pt\;vertical-align:middle\;"><span style="position:relative\;top:-8.5pt\;"><span style="color:#4E5561\;"><span style="font-family:arial\,sans-serif\;">Avoid <strong><span style="font-family:arial\,sans-serif\;">laundry</span></strong> during discoloration to prevent staining</span></span></span></li>\n	<li style="margin-top:0in\;margin-right:0in\;margin-bottom:15.0pt\;vertical-align:middle\;"><span style="position:relative\;top:-8.5pt\;"><span style="color:#4E5561\;"><span style="font-family:arial\,sans-serif\;">Run your faucet until water clears if discoloration occurs</span></span></span></li>\n	<li style="margin-top:0in\;margin-right:0in\;margin-bottom:15.0pt\;vertical-align:middle\;"><span style="position:relative\;top:-8.5pt\;"><span style="color:#4E5561\;"><span style="font-family:arial\,sans-serif\;">Water may have an <strong><span style="font-family:arial\,sans-serif\;">unpleasant taste</span></strong> &mdash\; you may prefer not to drink it</span></span></span></li>\n</ul>\n<span style="position:relative\;top:-8.5pt\;"><span style="color:#4E5561\;"><span style="font-family:segoe ui emoji\,sans-serif\;">&#128222\;</span></span></span><span style="position:relative\;top:-8.5pt\;"><span style="color:#4E5561\;"><span style="font-family:arial\,sans-serif\;">&nbsp\;<strong><span style="font-family:arial\,sans-serif\;">Questions?</span></strong> Contact Mark Cohen at MassDevelopment: <strong><span style="font-family:arial\,sans-serif\;">978-784-2911</span></strong></span></span></span>
LOCATION:
UID:e.518.49897
SEQUENCE:3
DTSTAMP:20260422T084235Z
URL:http://nashobavalleychamber.chambermaster.com/events/details/notice-fire-hydrant-flushing-in-devens-49897
END:VEVENT

END:VCALENDAR
