BEGIN:VCALENDAR
VERSION:2.0
PRODID:-//ChamberMaster//Event Calendar 2.0//EN
METHOD:PUBLISH
X-PUBLISHED-TTL:P3D
REFRESH-INTERVAL:P3D
CALSCALE:GREGORIAN
BEGIN:VEVENT
DTSTART;VALUE=DATE:20131031
DTEND;VALUE=DATE:20131101
TRANSP:TRANSPARENT
X-MICROSOFT-CDO-ALLDAYEVENT:TRUE
SUMMARY:Lunch & Learn - Advanced Management Techniques
DESCRIPTION:Lunch & Learn at the Nashoba Valley Chamber of Commerce \n\nAdvanced Management Techniques\n\nThursday\, October 31\, 2013\n\nNoon   1pm\n\nFree for members   Bring your own lunch\n\n \n\n \n\nTo manage with excellence requires you to supervise\, lead and communicate\, and when did you last learn precision tools to connect more effectively?  Join your fellow managers for this interactive Lunch & Learn where you will gain techniques to instantly build and maintain rapport\; make your employees more at easy\; and communicate your messages more effectively.  You know that your communication is essential for managing a successful business so sign up and come prepared to leave with tools to use immediately!\n\n \n\nRSVP at 978-772-6976\, Mikayla@nvcoc.com\, or online at www.nvcoc.com.
X-ALT-DESC;FMTTYPE=text/html:<strong><span style="font-family:arial\,sans-serif\;"><span style="font-size:9pt\;">Lunch &amp\; Learn at the</span></span></strong><span style="font-family:arial\,sans-serif\;"><span style="font-size:9pt\;">&nbsp\;<strong>Nashoba</strong></span>&nbsp\;<strong>Valley Chamber of Commerce</strong></span>&nbsp\;<br />\n<span style="font-family:arial\,sans-serif\;"><span style="font-size:9pt\;"><strong>Advanced Management Techniques</strong></span></span><br />\n<strong><span style="font-family:arial\,sans-serif\;"><span style="font-size:9pt\;">Thursday\, October 31\, 2013</span></span></strong><br />\n<strong><span style="font-family:arial\,sans-serif\;"><span style="font-size:9pt\;">Noon &ndash\;</span></span></strong><span style="font-family:arial\,sans-serif\;"><span style="font-size:9pt\;">&nbsp\;<strong>1pm</strong></span></span><br />\n<span style="font-family:arial\,sans-serif\;"><span style="font-size:9pt\;"><strong>Free for members &ndash\; Bring your own lunch</strong><br />\n&nbsp\;<br />\n&nbsp\;<br />\n<strong>To manage with excellence requires you to supervise\, lead and communicate\, and when did you last learn precision tools to connect more effectively?&nbsp\; Join your fellow managers for this interactive Lunch &amp\; Learn where you will gain techniques to instantly build and maintain rapport\; make your employees more at easy\; and communicate your messages more effectively.&nbsp\; You know that your communication is essential for managing a successful business so sign up and come prepared to leave with tools to use immediately!</strong></span></span><br />\n&nbsp\;<br />\n<span style="font-family:arial\,sans-serif\;"><span style="font-size:9pt\;"><strong>RSVP at 978-772-6976\, Mikayla@nvcoc.com\, or online at www.nvcoc.com.</strong><br />\n&nbsp\;</span></span><br />\n<br />\n<br />\n
LOCATION:Nashoba Valley Chamber Offices 100 Sherman Ave Devens MA
UID:e.518.15196
SEQUENCE:3
DTSTAMP:20260424T040252Z
URL:http://nashobavalleychamber.chambermaster.com/events/details/lunch-learn-advanced-management-techniques-10-31-2013-15196
END:VEVENT

END:VCALENDAR
