BEGIN:VCALENDAR
VERSION:2.0
PRODID:-//ChamberMaster//Event Calendar 2.0//EN
METHOD:PUBLISH
X-PUBLISHED-TTL:P3D
REFRESH-INTERVAL:P3D
CALSCALE:GREGORIAN
BEGIN:VEVENT
DTSTART;VALUE=DATE:20130402
DTEND;VALUE=DATE:20130403
TRANSP:TRANSPARENT
X-MICROSOFT-CDO-ALLDAYEVENT:TRUE
SUMMARY:* EANE - Lead Worker Certificate Program
DESCRIPTION:http://www.eane.org/lead-worker-certificate-program/\n\n\n\nLead Worker Certificate Program\n\n \n\nAn interactive two-day certification program for leads\, group leaders\, work coordinators and assistant supervisors within any organization.  Through group discussions\, exercises\, role-plays\, and action planning\, participants will develop the skills they need to succeed as a Team Leader\, and better understand how to apply those skills to their specific workplace situations. \n\n \n\nLeadership Skills for Lead People I\n\nApril 2\, 2013\n\nExplore the unique challenges faced by employees who lead and give direction to their co-workers.  Learn the core competencies for success and gain new perspectives about your responsibilities.\n\n \n\nLeadership Skills for Lead People II\n\nApril 23\, 2013\n\nContinue to develop leadership skills through hands-on participation and skill practice.   Learn effective goal setting and time management.  Increase your interpersonal skills and learn how to deal with conflict in a productive\, effective manner.
X-ALT-DESC;FMTTYPE=text/html:<a href="http://www.eane.org/lead-worker-certificate-program/">http://www.eane.org/lead-worker-certificate-program/</a><br />\n<br />\n<strong><span style="font-size: 14pt"><span style="color: green"><span style="font-family: georgia\, serif"><a href="http://r20.rs6.net/tn.jsp?e=001M7WTAyvSv_-dJ9ZXKhr4RaIrwgRUF3yJ2gEoMAr5_WZEzbE7HyBzdGHpovFoxjfQ7zwzk5AIJGlDvh3WERpV7Tou_IVAWE5ilXR9hMjGJNOjdTE53qfvIDEm1uAjuYwRKrgVPBNJVwOPG8Hth_0Vtg==" target="_blank"><span style="color: green">Lead Worker Certificate Program</span></a></span></span></span></strong><br />\n&nbsp\;<br />\n<span style="font-size: 10pt"><span style="color: #000090"><span style="font-family: georgia\, serif">An interactive two-day certification program for leads\, group leaders\, work coordinators and assistant supervisors within any organization.&nbsp\; Through group discussions\, exercises\, role-plays\, and action planning\, participants will develop the skills they need to succeed as a Team Leader\, and better understand how to apply those skills to their specific workplace situations</span></span></span><span style="font-size: 11pt"><span style="color: #000090"><span style="font-family: georgia\, serif">.&nbsp\;</span></span></span><br />\n&nbsp\;<br />\n<strong><span style="font-size: 11pt"><span style="color: #000090"><span style="font-family: georgia\, serif"><a href="http://r20.rs6.net/tn.jsp?e=001M7WTAyvSv__2YqRUPgvpa_tnt8rH2recYcShq1-ftXWARqqIIvgg56yLK7Hlox0TtN-ygpKGth_oUcDNYKoGgW4jC_F7UVFnOb4cgqKHUvV85HvLZ5hAy6So5ciEDluGB-AxSh2q5aZtsyTv2IperKHQJWY-ZUFs" linktype="1" shape="rect" target="_blank" track="on"><span style="color: #000090">Leadership Skills for Lead People I</span></a></span></span></span></strong><br />\n<strong><span style="font-size: 11pt"><span style="color: #000090"><span style="font-family: georgia\, serif">April 2\, 2013</span></span></span></strong><br />\n<span style="font-size: 10pt"><span style="color: #000090"><span style="font-family: georgia\, serif">Explore the unique challenges faced by employees who lead and give direction to their co-workers.&nbsp\; Learn the core competencies for success and gain new perspectives about your responsibilities.</span></span></span><br />\n&nbsp\;<br />\n<strong><span style="font-size: 11pt"><span style="color: #000090"><span style="font-family: georgia\, serif"><a href="http://r20.rs6.net/tn.jsp?e=001M7WTAyvSv_8uDnXMNOB7ulQFmLnrFnQb1yNSiB52VAosJCLos1ztj3G-cVhZrNVJIs4B7Ozp685xnMwVoynMcj4I0VDnJ5yCoI0YXyV6HChBo8q0XSqBw1uBkKSJDvwauTQbG10oI-yuCNAkC_yRgRLnJZQ71GBoQTSEprCnDPE=" linktype="1" shape="rect" target="_blank" track="on"><span style="color: #000090">Leadership Skills for Lead People II</span></a></span></span></span></strong><br />\n<strong><span style="font-size: 11pt"><span style="color: #000090"><span style="font-family: georgia\, serif">April 23\, 2013</span></span></span></strong><br />\n<span style="font-size: 10pt"><span style="color: #000090"><span style="font-family: georgia\, serif">Continue to develop leadership skills through hands-on participation and skill practice.&nbsp\;&nbsp\;&nbsp\;Learn effective goal setting and time management.&nbsp\; Increase your interpersonal skills and learn how to deal with conflict in a productive\, effective manner.&nbsp\;</span></span></span><br />\n&nbsp\;&nbsp\;<br />\n
LOCATION:
UID:e.518.11187
SEQUENCE:3
DTSTAMP:20260422T141940Z
URL:http://nashobavalleychamber.chambermaster.com/events/details/eane-lead-worker-certificate-program-04-02-2013-11187
END:VEVENT

END:VCALENDAR
