BEGIN:VCALENDAR
VERSION:2.0
PRODID:-//ChamberMaster//Event Calendar 2.0//EN
METHOD:PUBLISH
X-PUBLISHED-TTL:P3D
REFRESH-INTERVAL:P3D
CALSCALE:GREGORIAN
BEGIN:VEVENT
DTSTART;VALUE=DATE:20250125
DTEND;VALUE=DATE:20250126
TRANSP:TRANSPARENT
X-MICROSOFT-CDO-ALLDAYEVENT:TRUE
SUMMARY:Affirmation Card Workshop
DESCRIPTION:Affirmation Card Workshop\n\n\n	Saturday\, January 25\, 2025\n	1:00 PM  3:00 PM\n\n\n\n	Dragonfly Wellness Center176 Jackson RoadDevens\, MA
X-ALT-DESC;FMTTYPE=text/html:<h1 class="eventitem-title" id="yui_3_17_2_1_1735570310563_246" style="font-size: 17px\; margin-top: 0px\; font-family: alegreya\; font-style: italic\; letter-spacing: 0.01em\; line-height: 1.1em\; word-break: break-word\; overflow-wrap: break-word\; margin-right: 0px !important\; margin-bottom: 34px !important\; margin-left: 0px !important\; padding: 0px !important\;">Affirmation Card Workshop</h1>\n\n<ul class="eventitem-meta event-meta event-meta-date-time-container" style="list-style-type: none\; margin: 0px 0px 17px\; padding-right: 0px\; padding-left: 0px\; font-family: hero-new\; letter-spacing: 0.13em\; text-transform: uppercase\; color: rgb(187\, 187\, 187)\; font-size: 17px\;">\n	<li class="eventitem-meta-item eventitem-meta-date event-meta-item" style="margin: 0px\; padding: 0px\; font-size: 0.9em\; line-height: 1.6em\;"><time class="event-date" datetime="2025-01-25">Saturday\, January 25\, 2025</time></li>\n	<li class="eventitem-meta-item eventitem-meta-time event-meta-item" style="margin: 0px\; padding: 0px\; font-size: 0.9em\; line-height: 1.6em\;"><span class="event-time-12hr"><time class="event-time-12hr-start" datetime="2025-01-25">1:00&#8239\;PM</time>&nbsp\;&nbsp\;<time class="event-time-12hr-end" datetime="2025-01-25">3:00&#8239\;PM</time></span></li>\n</ul>\n\n<ul class="eventitem-meta event-meta event-meta-address-container" style="list-style-type: none\; margin: 0px 0px 17px\; padding-right: 0px\; padding-left: 0px\; font-family: hero-new\; letter-spacing: 0.13em\; text-transform: uppercase\; color: rgb(187\, 187\, 187)\; font-size: 17px\;">\n	<li class="eventitem-meta-item eventitem-meta-address" style="margin: 0px\; padding: 0px\; font-size: 0.9em\; line-height: 1.6em\;"><span class="eventitem-meta-address-line eventitem-meta-address-line--title" style="display: block\;">Dragonfly Wellness Center</span><span class="eventitem-meta-address-line">176 Jackson Road</span><span class="eventitem-meta-address-line">Devens\, MA</span></li>\n</ul>\n
LOCATION:
UID:e.518.46973
SEQUENCE:3
DTSTAMP:20260424T174400Z
URL:http://nashobavalleychamber.chambermaster.com/events/details/affirmation-card-workshop-46973
END:VEVENT

END:VCALENDAR
